BEGIN:VCALENDAR
VERSION:2.0
PRODID:-//De Groene Belevenis - ECPv6.15.18//NONSGML v1.0//EN
CALSCALE:GREGORIAN
METHOD:PUBLISH
X-ORIGINAL-URL:https://www.degroenebelevenis.nl
X-WR-CALDESC:Evenementen voor De Groene Belevenis
REFRESH-INTERVAL;VALUE=DURATION:PT1H
X-Robots-Tag:noindex
X-PUBLISHED-TTL:PT1H
BEGIN:VTIMEZONE
TZID:Europe/Amsterdam
BEGIN:DAYLIGHT
TZOFFSETFROM:+0100
TZOFFSETTO:+0200
TZNAME:CEST
DTSTART:20240331T010000
END:DAYLIGHT
BEGIN:STANDARD
TZOFFSETFROM:+0200
TZOFFSETTO:+0100
TZNAME:CET
DTSTART:20241027T010000
END:STANDARD
BEGIN:DAYLIGHT
TZOFFSETFROM:+0100
TZOFFSETTO:+0200
TZNAME:CEST
DTSTART:20250330T010000
END:DAYLIGHT
BEGIN:STANDARD
TZOFFSETFROM:+0200
TZOFFSETTO:+0100
TZNAME:CET
DTSTART:20251026T010000
END:STANDARD
BEGIN:DAYLIGHT
TZOFFSETFROM:+0100
TZOFFSETTO:+0200
TZNAME:CEST
DTSTART:20260329T010000
END:DAYLIGHT
BEGIN:STANDARD
TZOFFSETFROM:+0200
TZOFFSETTO:+0100
TZNAME:CET
DTSTART:20261025T010000
END:STANDARD
END:VTIMEZONE
BEGIN:VEVENT
DTSTART;TZID=Europe/Amsterdam:20251004T093000
DTEND;TZID=Europe/Amsterdam:20251004T120000
DTSTAMP:20260423T013341
CREATED:20250929T125657Z
LAST-MODIFIED:20250929T130212Z
UID:10002750-1759570200-1759579200@www.degroenebelevenis.nl
SUMMARY:Kinderbeurs Leusden: duurzaam\, lokaal en gezellig!
DESCRIPTION:Twee moeders uit Leusden-Zuid organiseren op zaterdagochtend 4 oktober 2025 van 9.30 – 12.00 uur een gezellige Kinderbeurs bij Maxima’s in Antares (Máximaplein 7 in Leusden-Zuid). Hier vind je tweedehands kinderkleding\, schoenen en speelgoed\, zo goed als nieuw.  \nKinderen groeien razendsnel en vaak ligt er thuis nog een stapel prima kleding\, schoenen of speelgoed waar niks meer mee gebeurt. Dat is zonde! Tegelijkertijd zijn we regelmatig op zoek naar mooie\, betaalbare en duurzame kleding voor onze eigen kinderen. En dan is het toch ideaal om spullen gewoon in de buurt te kunnen kopen en verkopen? \nDe Kinderbeurs is bedoeld als een gezellige\, toegankelijke en duurzame manier om de kleding- en speelgoedkast aan te vullen en/of de opslagruimte op zolder op te ruimen. Je kunt er terecht voor tweedehands baby- en kinderkleding\, accessoires en speelgoed. Alles overzichtelijk\, lokaal en zonder gedoe met pakketjes of verzendkosten zoals op Vinted. \nDe beurs bestaat uit ongeveer 20 losse kramen (tafels) met een wisselend aanbod van buurtgenoten. Zelf verkopen? Kijk op Kinderbeurs Leusden – Koop tickets | Ticketkantoor of er nog plek is. Bij vragen kun je mailen naar kinderbeursleusden@gmail.com. \nDe entree is gratis en voor een kop koffie of iets lekkers kun je terecht bij Maxima’s. Volg de laatste updates via Instagram: instagram.com/kinderbeursleusden.\nDe Kinderbeurs wordt mede mogelijk gemaakt door wijkvereniging Leusden ZeT.
URL:https://www.degroenebelevenis.nl/groene-agenda/kinderbeurs-leusden-duurzaam-lokaal-en-gezellig/
LOCATION:MFC Antares\, Máximaplein 7\, Leusden
CATEGORIES:Duurzaam Doen
ATTACH;FMTTYPE=image/jpeg:https://www.degroenebelevenis.nl/wp-content/uploads/2025/09/kinderbeurs-leusden.jpg
END:VEVENT
END:VCALENDAR