BEGIN:VCALENDAR
VERSION:2.0
PRODID:-//De Groene Belevenis - ECPv6.15.18//NONSGML v1.0//EN
CALSCALE:GREGORIAN
METHOD:PUBLISH
X-WR-CALNAME:De Groene Belevenis
X-ORIGINAL-URL:https://www.degroenebelevenis.nl
X-WR-CALDESC:Evenementen voor De Groene Belevenis
REFRESH-INTERVAL;VALUE=DURATION:PT1H
X-Robots-Tag:noindex
X-PUBLISHED-TTL:PT1H
BEGIN:VTIMEZONE
TZID:Europe/Amsterdam
BEGIN:DAYLIGHT
TZOFFSETFROM:+0100
TZOFFSETTO:+0200
TZNAME:CEST
DTSTART:20220327T010000
END:DAYLIGHT
BEGIN:STANDARD
TZOFFSETFROM:+0200
TZOFFSETTO:+0100
TZNAME:CET
DTSTART:20221030T010000
END:STANDARD
BEGIN:DAYLIGHT
TZOFFSETFROM:+0100
TZOFFSETTO:+0200
TZNAME:CEST
DTSTART:20230326T010000
END:DAYLIGHT
BEGIN:STANDARD
TZOFFSETFROM:+0200
TZOFFSETTO:+0100
TZNAME:CET
DTSTART:20231029T010000
END:STANDARD
BEGIN:DAYLIGHT
TZOFFSETFROM:+0100
TZOFFSETTO:+0200
TZNAME:CEST
DTSTART:20240331T010000
END:DAYLIGHT
BEGIN:STANDARD
TZOFFSETFROM:+0200
TZOFFSETTO:+0100
TZNAME:CET
DTSTART:20241027T010000
END:STANDARD
END:VTIMEZONE
BEGIN:VEVENT
DTSTART;TZID=Europe/Amsterdam:20230616T150000
DTEND;TZID=Europe/Amsterdam:20230616T160000
DTSTAMP:20260421T133542
CREATED:20230510T101526Z
LAST-MODIFIED:20230510T101854Z
UID:10001919-1686927600-1686931200@www.degroenebelevenis.nl
SUMMARY:Buitenweek: Natuurkunst maken
DESCRIPTION:Met natuurlijke materialen een kunstwerk maken; dat kan op vrijdag 16 juni bij de buitenschoolse opvang Kinderland van Humankind! \nMet elkaar gaan we buiten op zoek naar de mooiste natuurlijke materialen en maken we daar een kunstwerk van. Je kunt jouw werk een mooi plekje geven in de natuur; maar je mag natuurlijk ook iets maken wat je mee naar huis kan nemen. \nDeze activiteit wordt georganiseerd op vrijdag 16 juni van 15.00 uur tot 16.00 uur en is geschikt voor kinderen van 4 tot 12 jaar. Ouders/verzorgers hoeven bij deze activiteit niet aanwezig te zijn maar laten wel een telefoonnummer bij de opvang achter waarop ze bereikbaar zijn. \nAanmelden voor deze activiteit is verplicht. Meld je daarom snel aan en knutsel mee! \nWil je weten welke andere activiteiten er tijdens de Buitenweek georganiseerd worden of een kijkje nemen op de Buitenspeelkaart? Kijk dan op de pagina  buitenspelen voor meer informatie. \nOeps! We konden je formulier niet vinden.
URL:https://www.degroenebelevenis.nl/groene-agenda/buitenweek-natuurkunst-maken/
LOCATION:BSO Kinderland; Humankind\, Meent 3\, Leusden
CATEGORIES:buitenweek
ATTACH;FMTTYPE=image/jpeg:https://www.degroenebelevenis.nl/wp-content/uploads/2022/07/DGB-17.jpg
END:VEVENT
BEGIN:VEVENT
DTSTART;TZID=Europe/Amsterdam:20230616T143000
DTEND;TZID=Europe/Amsterdam:20230616T163000
DTSTAMP:20260421T133542
CREATED:20230511T093302Z
LAST-MODIFIED:20230511T150855Z
UID:10001915-1686925800-1686933000@www.degroenebelevenis.nl
SUMMARY:Buitenweek: Bezoek de Vlinder- en bijentuin
DESCRIPTION:Loop de vlinder-kijk-route en ontdek alles over vlinders en bijen. Doe mee met de quiz en maak als afsluiting een mooie vlinder of schilder een bloempot. \nDe Vlinder- en bijentuin is op vrijdag 16 juni van 14.30 -16.30 uur geopend voor kinderen van 4 tot 10 jaar. \nOntdek dit bijen en vlinderparadijs en meld je aan voor deze activiteit! \nWil je weten welke andere activiteiten er tijdens de Buitenweek georganiseerd worden of een kijkje nemen op de Buitenspeelkaart? Kijk dan op de pagina  buitenspelen voor meer informatie. \nOeps! We konden je formulier niet vinden.
URL:https://www.degroenebelevenis.nl/groene-agenda/buitenweek-bezoek-de-vlinder-en-bijentuin-2/
LOCATION:Vlinder- en bijentuin\, Vlinderpad\, Leusden
CATEGORIES:buitenweek
ATTACH;FMTTYPE=image/jpeg:https://www.degroenebelevenis.nl/wp-content/uploads/2022/06/6_fauna_koninginnepage-uitvliegen_PdB-scaled-e1683817702353.jpeg
END:VEVENT
BEGIN:VEVENT
DTSTART;TZID=Europe/Amsterdam:20230615T100000
DTEND;TZID=Europe/Amsterdam:20230615T110000
DTSTAMP:20260421T133542
CREATED:20230510T103242Z
LAST-MODIFIED:20230613T091424Z
UID:10001918-1686823200-1686826800@www.degroenebelevenis.nl
SUMMARY:Buitenweek: Blote voeten pad en spelen
DESCRIPTION:Op je blote voeten door modder of over gras lopen; hoe voelt dat? Ontdek het bij het blote voeten pad van kinderdagverblijf Fila Tekna van Humankind. \nNaast deze ontdekkingstocht op blote voeten\, is er volop ruimte om in de tuin van het kinderdagverblijf te spelen. \nDeze activiteit wordt georganiseerd op donderdag 15 juni van 10.00 uur tot 11.00 uur en is geschikt voor kinderen van 2 tot 4 jaar en hun ouder/verzorger. \nHet is niet meer mogelijk om je voor deze activiteit op te geven. \nWil je weten welke andere activiteiten er tijdens de Buitenweek georganiseerd worden of een kijkje nemen op de Buitenspeelkaart? Kijk dan op de pagina  buitenspelen voor meer informatie. \n 
URL:https://www.degroenebelevenis.nl/groene-agenda/buitenweek-blote-voeten-pad-en-spelen/
LOCATION:Kinderdagverblijf Fila Tekna; Humankind\, Meent 3\, Leusden
CATEGORIES:buitenweek
ATTACH;FMTTYPE=image/jpeg:https://www.degroenebelevenis.nl/wp-content/uploads/2023/05/voeten_modder.jpg
END:VEVENT
BEGIN:VEVENT
DTSTART;TZID=Europe/Amsterdam:20230614T150000
DTEND;TZID=Europe/Amsterdam:20230614T154500
DTSTAMP:20260421T133542
CREATED:20230530T100710Z
LAST-MODIFIED:20230613T115035Z
UID:10001926-1686754800-1686757500@www.degroenebelevenis.nl
SUMMARY:Buitenweek: Levend stratego
DESCRIPTION:Kom jij woensdagmiddag 14 juni ook lekker sporten op de Kuperssingel? We gaan het spel levend stratego spelen onder begeleiding van buurtsportcoach Lex! \nTwee teams gaan tegen elkaar strijden en proberen elkaars vlag te vinden en te veroveren. Ook kun je elkaar aftikken. De speler met de hoogste rang wint het onderlinge duel. \nEen leuk en spannend spel waar iedereen aan mee kan doen! \nDeze activiteit wordt georganiseerd op woensdag 14 juni van 15.00 uur tot 15.45 uur bij de kabelbaan aan de Kuperssingel en is geschikt voor kinderen van 7 tot 12 jaar. \nHet is helaas niet meer mogelijk om je voor deze activiteit aan te melden. \n  \nWil je weten welke andere activiteiten er tijdens de Buitenweek georganiseerd worden of een kijkje nemen op de Buitenspeelkaart? Kijk dan op de pagina buitenspelen voor meer informatie. \n 
URL:https://www.degroenebelevenis.nl/groene-agenda/buitenweek-levend-stratego/
LOCATION:Kabelbaan; Kuperssingel
CATEGORIES:buitenweek
ATTACH;FMTTYPE=image/png:https://www.degroenebelevenis.nl/wp-content/uploads/2023/05/levend-stratego-1.png
END:VEVENT
BEGIN:VEVENT
DTSTART;TZID=Europe/Amsterdam:20230614T141500
DTEND;TZID=Europe/Amsterdam:20230614T160000
DTSTAMP:20260421T133542
CREATED:20230510T091250Z
LAST-MODIFIED:20230609T190731Z
UID:10001920-1686752100-1686758400@www.degroenebelevenis.nl
SUMMARY:Buitenweek: Voorronde NK stoepranden
DESCRIPTION:Ben je gek op stoepranden? Dan is deze voorronde dé kans om uiteindelijk mee te doen bij het NK stoepranden in Den Haag! \nSportXperience organiseert op de nationale Buitenspeeldag de voorronde voor dit evenement. Via poulewedstrijden en verschillende finalerondes kun je 1 van de 4 tickets bemachtigen voor het NK. Daarnaast is er ook een ticket beschikbaar voor de best geklede deelnemer en de deelnemer met de meeste punten. \nDeze activiteit wordt georganiseerd op woensdag 14 juni van 14.15 uur tot 16.00 uur bij De Hobbit en Het Kompas\, Meent 3 en is geschikt voor kinderen van 6 tot 12 jaar. \nAanmelden voor deze activiteit is verplicht. Inschrijven doe je via de website Leusden in beweging. \n  \nWil je weten welke andere activiteiten er tijdens de Buitenweek georganiseerd worden of een kijkje nemen op de Buitenspeelkaart? Kijk dan op de pagina  buitenspelen voor meer informatie.
URL:https://www.degroenebelevenis.nl/groene-agenda/buitenweek-voorronde-nk-stoepranden/
LOCATION:De Hobbit – Het Kompas\, Meent 3\, Leusden
CATEGORIES:buitenweek
ATTACH;FMTTYPE=image/jpeg:https://www.degroenebelevenis.nl/wp-content/uploads/2023/06/Buitenweek-Sport-Xperience-2_stockfoto-Istock.jpg
END:VEVENT
BEGIN:VEVENT
DTSTART;TZID=Europe/Amsterdam:20230614T140000
DTEND;TZID=Europe/Amsterdam:20230614T163000
DTSTAMP:20260421T133542
CREATED:20230215T142201Z
LAST-MODIFIED:20230516T135350Z
UID:10001877-1686751200-1686760200@www.degroenebelevenis.nl
SUMMARY:Buitenweek: Spelen in de Struintuin - Buitenspeeldag
DESCRIPTION:Het is Buitenspeeldag! Ga mee op ontdekkingstocht in de Struintuin! \nTijdens een speelmiddag kunnen kinderen tot 12 jaar spelen in het groen. \nSpeciaal voor de Buitenspeeldag organiseren we oud Hollandse spelletjes maar dan met een natuurlijke twist! Nieuwsgierig? Speel deze middag dan met ons mee! \nNatuurlijk kun je ook ‘gewoon’ op onderzoek in de tuin; zoek waterdiertjes in de poel\, bouw een hut of klauter over de boomstammen. Bak de lekkerste zandtaarten in de modderkeuken en ontdek de geheime paadjes in de tuin. \nDe entree bedraagt € 2\,50 voor kinderen vanaf 1 jaar en wordt aan de kassa in de Struintuin voldaan. Voor volwassenen is de toegang gratis. Speel mee en meld je direct aan! \nGoed om te weten:\n• Kinderen komen altijd onder begeleiding van een volwassene\n• Aanmelden bij de kassa is eventueel ook mogelijk\n• Kom bij voorkeur op de fiets\n• Honden worden in de Struintuin niet toegelaten (met uitzondering van hulphonden) \nVies worden in de Struintuin is heel gewoon! Neem daarom goede schoenen en reservekleding mee. \nOeps! We konden je formulier niet vinden.
URL:https://www.degroenebelevenis.nl/groene-agenda/spelen-in-de-struintuin-buitenspeeldag-2/
LOCATION:Struintuin; De Groene Belevenis\, Hamersveldseweg 105\, Leusden\, 3833GM\, Nederland
CATEGORIES:buitenweek,Spelen in de struintuin
ATTACH;FMTTYPE=image/jpeg:https://www.degroenebelevenis.nl/wp-content/uploads/2023/01/Spelen-Struintuin-4.jpg
END:VEVENT
BEGIN:VEVENT
DTSTART;TZID=Europe/Amsterdam:20230613T141500
DTEND;TZID=Europe/Amsterdam:20230613T150000
DTSTAMP:20260421T133542
CREATED:20230510T095249Z
LAST-MODIFIED:20230609T191037Z
UID:10001917-1686665700-1686668400@www.degroenebelevenis.nl
SUMMARY:Buitenweek: Buitenspelen met SportXperience!
DESCRIPTION:Wekelijks zijn de beweegcoaches van SportXperience na schooltijd buiten te vinden met leuke buitenspeel-activiteiten. Laat je verrassen en doe mee! \nDeze activiteit wordt georganiseerd op dinsdag 13 juni van 14.15 uur tot 15.00 uur op het speelplein bij De Bongerd en KLA4\, Asschatterweg 36. De activiteit  is geschikt voor kinderen van 5 tot 10 jaar. \nAanmelden voor deze activiteit is niet nodig. \n  \nWil je weten welke andere activiteiten er tijdens de Buitenweek georganiseerd worden of een kijkje nemen op de Buitenspeelkaart? Kijk dan op de pagina  buitenspelen voor meer informatie.
URL:https://www.degroenebelevenis.nl/groene-agenda/buitenweek-buitenspelen-met-sportxperience/
LOCATION:Speelplein De Bongerd en KLA4\, Asschatterweg 36\, Leusden
CATEGORIES:buitenweek
ATTACH;FMTTYPE=image/jpeg:https://www.degroenebelevenis.nl/wp-content/uploads/2023/06/Buitenweek-Sport-Xperience-3_stockfoto-Istock.jpg
END:VEVENT
BEGIN:VEVENT
DTSTART;TZID=Europe/Amsterdam:20230612T141500
DTEND;TZID=Europe/Amsterdam:20230612T150000
DTSTAMP:20260421T133542
CREATED:20230510T095403Z
LAST-MODIFIED:20230605T130602Z
UID:10001916-1686579300-1686582000@www.degroenebelevenis.nl
SUMMARY:Buitenweek: Buitenspelen met SportXperience!
DESCRIPTION:Wekelijks zijn de beweegcoaches van SportXperience na schooltijd buiten te vinden met leuke buitenspeel-activiteiten.  Laat je verrassen en doe mee! \nDeze activiteit wordt georganiseerd op maandag 12 juni van 14.15 uur tot 15.00 uur op het grasveld bij De Holm en De Heerd\, Berkelwijk 35. De activiteit  is geschikt voor kinderen van 5 tot 10 jaar. \nAanmelden voor deze activiteit is niet nodig. \n  \nWil je weten welke andere activiteiten er tijdens de Buitenweek georganiseerd worden of een kijkje nemen op de Buitenspeelkaart? Kijk dan op de pagina  buitenspelen voor meer informatie.
URL:https://www.degroenebelevenis.nl/groene-agenda/buitenweek-buitenspelen-met-sportxperience-2/
LOCATION:Grasveld De Holm – De Heerd\, Berkelwijk 35\, Leusden
CATEGORIES:buitenweek
ATTACH;FMTTYPE=image/jpeg:https://www.degroenebelevenis.nl/wp-content/uploads/2023/05/Buitenweek-Sport-Xperience_stockfoto-Istock.jpg
END:VEVENT
BEGIN:VEVENT
DTSTART;TZID=Europe/Amsterdam:20230610T140000
DTEND;TZID=Europe/Amsterdam:20230610T163000
DTSTAMP:20260421T133542
CREATED:20230215T152722Z
LAST-MODIFIED:20230509T100009Z
UID:10001893-1686405600-1686414600@www.degroenebelevenis.nl
SUMMARY:Buitenweek: Spelen in de Struintuin
DESCRIPTION:Het is de Buitenweek! Kom op ontdekkingstocht in de Struintuin \nTijdens een speelmiddag kunnen kinderen tot 12 jaar spelen in het groen. Zoek waterdiertjes in de poel\, bouw een hut of klauter over de boomstammen. Bak de lekkerste zandtaarten in de modderkeuken en ontdek de geheime paadjes in de tuin. \nDe entree bedraagt € 2\,50 voor kinderen vanaf 1 jaar en wordt aan de kassa in de Struintuin voldaan. Voor volwassenen is de toegang gratis. Speel mee en meld je direct aan! \nGoed om te weten:\n• Kinderen komen altijd onder begeleiding van een volwassene\n• Aanmelden bij de kassa is eventueel ook mogelijk\n• Kom bij voorkeur op de fiets\n• Honden worden in de Struintuin niet toegelaten (met uitzondering van hulphonden) \nVies worden in de Struintuin is heel gewoon! Neem daarom goede schoenen en reservekleding mee. \nOeps! We konden je formulier niet vinden.
URL:https://www.degroenebelevenis.nl/groene-agenda/spelen-in-de-struintuin-29/
LOCATION:Struintuin; De Groene Belevenis\, Hamersveldseweg 105\, Leusden\, 3833GM\, Nederland
CATEGORIES:buitenweek,Spelen in de struintuin
ATTACH;FMTTYPE=image/jpeg:https://www.degroenebelevenis.nl/wp-content/uploads/2023/01/Spelen-Struintuin-5.jpg
END:VEVENT
BEGIN:VEVENT
DTSTART;TZID=Europe/Amsterdam:20230610T140000
DTEND;TZID=Europe/Amsterdam:20230610T160000
DTSTAMP:20260421T133542
CREATED:20230413T115922Z
LAST-MODIFIED:20230605T130809Z
UID:10001908-1686405600-1686412800@www.degroenebelevenis.nl
SUMMARY:Buitenweek: Familie excursie waterdiertjes zoeken
DESCRIPTION:De Schoolsteegbosjes vormen een bijzonder en waterrijk natuurgebied tussen de Hamersveldseweg\, de Schoolsteeg en de liniedijk langs het Valleikanaal. \nTijdens de familie excursie nemen we het waterleven in het gebied letterlijk onder de loep. Na een korte introductie over de Schoolsteegbosjes en haar bewoners kunnen kinderen onder begeleiding onderzoek doen in de poelen in het gebied. Welke waterdieren komen we tegen en zijn er verschillen tussen de poelen? \nMaak gebruik van de mogelijkheid om waterdiertjes te zoeken in een natuurgebied dat normaal gesloten is voor publiek en meld je aan voor deze bijzondere familie excursie! \nDeze excursie wordt georganiseerd in het kader van de Buitenweek en is geschikt voor kinderen in de basisschoolleeftijd. Aanmelden is verplicht. Er geldt een maximum aantal deelnemers. \nWil je weten welke andere activiteiten er tijdens de Buitenweek georganiseerd worden of een kijkje nemen op de Buitenspeelkaart? Kijk dan op de pagina buitenspelen voor meer informatie. \nOeps! We konden je formulier niet vinden.
URL:https://www.degroenebelevenis.nl/groene-agenda/buitenweek-waterdiertjes-zoeken-in-de-schoolsteegbosjes/
LOCATION:Schoolsteegbosjes
CATEGORIES:buitenweek,Excursies
ATTACH;FMTTYPE=image/png:https://www.degroenebelevenis.nl/wp-content/uploads/2023/04/waterdiertjes.png
END:VEVENT
BEGIN:VEVENT
DTSTART;TZID=Europe/Amsterdam:20230610T100000
DTEND;TZID=Europe/Amsterdam:20230610T120000
DTSTAMP:20260421T133542
CREATED:20230510T174007Z
LAST-MODIFIED:20230510T174007Z
UID:10001913-1686391200-1686398400@www.degroenebelevenis.nl
SUMMARY:Buitenweek: Bloembommetjes maken
DESCRIPTION:Vind jij ook dat er wel wat meer bloemen mogen komen? Kom dan met aarde\, klei\, water en zaadjes bloembommetjes maken. Laat ze drogen en leg ze op een plek waar jij meer bloemen wilt zien! \nDeze activiteit wordt georganiseerd op zaterdag 10 juni door kinderopvang De Wiebelwagen en is geschikt voor kinderen van 3 tot 11 jaar. \nAanmelden voor deze activiteit is verplicht. Meld je aan en maak Leusden nog kleurrijker! \nWil je weten welke andere activiteiten er tijdens de Buitenweek georganiseerd worden of een kijkje nemen op de Buitenspeelkaart? Kijk dan op de pagina  buitenspelen voor meer informatie. \nOeps! We konden je formulier niet vinden.
URL:https://www.degroenebelevenis.nl/groene-agenda/buitenweek-bloembommetjes-maken-2/
LOCATION:Kinderopvang de Wiebelwagen\, Hamersveldseweg 105\, Leusden
CATEGORIES:buitenweek
ATTACH;FMTTYPE=image/jpeg:https://www.degroenebelevenis.nl/wp-content/uploads/2022/08/DGB-43.jpg
END:VEVENT
END:VCALENDAR