BEGIN:VCALENDAR
VERSION:2.0
PRODID:-//De Groene Belevenis - ECPv6.15.18//NONSGML v1.0//EN
CALSCALE:GREGORIAN
METHOD:PUBLISH
X-WR-CALNAME:De Groene Belevenis
X-ORIGINAL-URL:https://www.degroenebelevenis.nl
X-WR-CALDESC:Evenementen voor De Groene Belevenis
REFRESH-INTERVAL;VALUE=DURATION:PT1H
X-Robots-Tag:noindex
X-PUBLISHED-TTL:PT1H
BEGIN:VTIMEZONE
TZID:Europe/Amsterdam
BEGIN:DAYLIGHT
TZOFFSETFROM:+0100
TZOFFSETTO:+0200
TZNAME:CEST
DTSTART:20250330T010000
END:DAYLIGHT
BEGIN:STANDARD
TZOFFSETFROM:+0200
TZOFFSETTO:+0100
TZNAME:CET
DTSTART:20251026T010000
END:STANDARD
BEGIN:DAYLIGHT
TZOFFSETFROM:+0100
TZOFFSETTO:+0200
TZNAME:CEST
DTSTART:20260329T010000
END:DAYLIGHT
BEGIN:STANDARD
TZOFFSETFROM:+0200
TZOFFSETTO:+0100
TZNAME:CET
DTSTART:20261025T010000
END:STANDARD
BEGIN:DAYLIGHT
TZOFFSETFROM:+0100
TZOFFSETTO:+0200
TZNAME:CEST
DTSTART:20270328T010000
END:DAYLIGHT
BEGIN:STANDARD
TZOFFSETFROM:+0200
TZOFFSETTO:+0100
TZNAME:CET
DTSTART:20271031T010000
END:STANDARD
END:VTIMEZONE
BEGIN:VEVENT
DTSTART;TZID=Europe/Amsterdam:20260521T210000
DTEND;TZID=Europe/Amsterdam:20260521T230000
DTSTAMP:20260422T104527
CREATED:20260421T113933Z
LAST-MODIFIED:20260421T133626Z
UID:10003249-1779397200-1779404400@www.degroenebelevenis.nl
SUMMARY:Vleermuis safari
DESCRIPTION:Ga op donderdag 21 mei ’s avonds in de schemer mee op vleermuissafari en ontdek welke vleermuizen er allemaal rondfladderen in de bebouwde kom van Leusden! De Groene Belevenis organiseert twee vleermuisexcursies\, samen met de Vleermuizen Werkgroep. \nNachtdieren\nVleermuizen zijn nachtdieren en niet altijd makkelijk zichtbaar. Maar ze zijn er wel!  Ze leven het liefst in buurten met veel groen\, water en een donkere nacht. Hun aanwezigheid is dus een goede graadmeter voor hoe natuurrijk een buurt is. \nOp safari door de wijk\nMet een vleermuisdetector (een apparaat dat ultrageluid omzet in hoorbaar geluid) ga je met de fiets door de wijk en speur je de vleermuizen op. Twee gidsen van de Vleermuizen Werkgroep vertellen je onderweg meer over deze fascinerende dieren. Ook laten ze je zien wat je zelf in en om je eigen huis kunt doen om het de vleermuis naar de zin te maken. Want hun leefgebied staat steeds meer onder druk\, onder andere door isolatie van woningen. Vleermuisvriendelijk isoleren is een van de oplossingen\, waar de gidsen je meer over kunnen vertellen. We gaan deze avond op zoek naar vleermuizen in de buurten Akkerhoeve\, Noordwijk\, Bosveld\, Munnikhove en Langenbeek. Op donderdag 4 juni vindt de safari nog een keer plaats. \nTijd en plaats: de excursie start op 21 mei rond 21:00 uur bij het Huis van Leusden. Na aanmelding ontvang je bericht over de exacte vertrektijd en locatie.\nVervoer: met de fiets bezoeken we verschillende plekken\nAantal deelnemers: maximaal 20\nKosten: gratis\nAanmelden: verplicht via onderstaand aanmeldformulier \n\n\n                \n                        \n                            Aanmelden vleermuis safari 21 mei 2026\n                             \n                        \n                        Voornaam(Vereist)AchternaamE-mailadres(Vereist)\n                            \n                        Postcode(Vereist)Telefoonnummer(Vereist) ivm mogelijke wijzigingen programmaIk kom met # personen(Vereist)Er is op deze dag nog ruimte voor 18 deelnemers.Opmerkingen:Instemming(Vereist) Ja\, mijn gegevens mogen worden gebruikt en gedeeld met de organisatoren van de vleermuis safariNieuwsbrief toestemming\n								\n								Ja\, ik abonneer mij ook graag op de nieuwsbrieven van De Groene Belevenis. Ik ga ermee akkoord dat mijn naam en mailadres worden toegevoegd aan de verzendlijst.\n							\n          \n            \n            \n            \n            \n            \n            \n            \n            \n            \n            \n            \n            \n            \n        \n                        Δ
URL:https://www.degroenebelevenis.nl/groene-agenda/vleermuis-safari-2/
LOCATION:Huis van Leusden\, 't Erf 1\, Leusden\, Utrecht\, 3831 NA\, Nederland
CATEGORIES:Excursies,Groen Leusden
ATTACH;FMTTYPE=image/jpeg:https://www.degroenebelevenis.nl/wp-content/uploads/2025/04/2024_vleermuissafari-HF3-scaled.jpg
END:VEVENT
BEGIN:VEVENT
DTSTART;TZID=Europe/Amsterdam:20260523T100000
DTEND;TZID=Europe/Amsterdam:20260523T120000
DTSTAMP:20260422T104527
CREATED:20260403T122434Z
LAST-MODIFIED:20260403T122434Z
UID:10003242-1779530400-1779537600@www.degroenebelevenis.nl
SUMMARY:Excursie 'Natuur en historie rond het Bruinenburgerveld'
DESCRIPTION:Op de grens van Leusden en Woudenberg vormt Bruinenburg bij Ekris en het gebied rond Huize De Boom een bijzonder natuurgebied met een rijk verleden. Bruinenburg maakt inmiddels 10 jaar deel uit van Landgoed De Boom. Delen van Bruinenburg en van het gebied rond Huize De Boom zijn normaalgesproken niet toegankelijk voor publiek. \nHet gebied is wat flora en fauna betreft waardevol. Door de variatie in landschapselementen en biotopen komen er bijzondere dier- en plantensoorten voor. Tijdens de excursie zie je hoe stichting De Boom zich inzet voor de ontwikkeling van de ecologische verbindingszone en natuurontwikkeling in dit gebied. Daarnaast laten we u vele sporen zien van een bijzondere historie. \nLaat je verrassen door dit natuurgebied! \nDeze excursie is gratis en geschikt voor volwassenen. Aanmelden is verplicht. Er geldt een maximum aantal deelnemers. \n\n                \n                        \n                            Aanmelden excursie 'Natuur en historie rond het Bruinenburgerveld' op 23 mei 2026\n                             \n                        \n                        VoornaamAchternaamE-mailadres(Vereist)\n                            \n                        Telefoonnummer(Vereist) ivm mogelijke wijzigingen programmaIk kom met # personen(Vereist)Er is op deze dag nog ruimte voor 25 deelnemers.Nieuwsbrief toestemming\n								\n								Ja\, ik abonneer mij ook graag op de nieuwsbrieven van De Groene Belevenis. Ik ga ermee akkoord dat mijn naam en mailadres worden toegevoegd aan de verzendlijst.\n							\n          \n            \n            \n            \n            \n            \n            \n            \n            \n            \n            \n            \n            \n            \n        \n                        Δ
URL:https://www.degroenebelevenis.nl/groene-agenda/excursie-natuur-en-historie-rond-het-bruinenburgerveld/
LOCATION:Bruinenburgerveld
CATEGORIES:Excursies
ATTACH;FMTTYPE=image/jpeg:https://www.degroenebelevenis.nl/wp-content/uploads/2026/04/bruinenburgersluis-3-2.jpg
END:VEVENT
BEGIN:VEVENT
DTSTART;TZID=Europe/Amsterdam:20260530T211500
DTEND;TZID=Europe/Amsterdam:20260530T223000
DTSTAMP:20260422T104527
CREATED:20260318T211730Z
LAST-MODIFIED:20260318T215744Z
UID:10003220-1780175700-1780180200@www.degroenebelevenis.nl
SUMMARY:Familie-excursie: Vleermuizen zoeken rond Buitenplaats 'De Heiligenberg'
DESCRIPTION:Een spannende avondwandeling voor het hele gezin \nOntdek het mysterieuze nachtleven rond buitenplaats De Heiligenberg in Leusden; een unieke plek die normaal gesloten is voor publiek! Tijdens deze bijzondere gezinswandeling nemen twee enthousiaste gidsen je mee op ontdekkingstocht door de schemering. \nDe vleermuisexpert van vleermuizenwerkgroep Leusden vertelt alles over het geheime nachtleven van vleermuizen. Hoe leven ze? Wat eten ze? En waarom zijn ze zo belangrijk voor ons ecosysteem? Met een batscanner speur je zelf naar jagende vleermuizen en leer je welke soorten hier in het donker actief zijn. \nOnderweg vertelt de natuurgids over de rijke historie van De Heiligenberg en waarom deze plek haar bijzondere naam draagt. \nMaak gebruik van deze unieke kans om het terrein van stichting De Boom te verkennen en laat je verrassen door een avond vol natuur\, cultuur en verwondering. \nDeze excursie is gratis en geschikt voor gezinnen. Aanmelden is verplicht. Er geldt een maximum aantal deelnemers. \n\n                \n                        \n                            Aanmelden familie-excursie 'Vleermuizen zoeken Heiligenberg' op 30 mei 2026\n                             \n                        \n                        VoornaamAchternaamE-mailadres(Vereist)\n                            \n                        Telefoonnummer(Vereist) ivm mogelijke wijzigingen programmaIk kom met # personen(Vereist)Er is op deze dag nog ruimte voor 25 deelnemers.waarvan # kinderen(Vereist)Nieuwsbrief toestemming\n								\n								Ja\, ik abonneer mij ook graag op de nieuwsbrieven van De Groene Belevenis. Ik ga ermee akkoord dat mijn naam en mailadres worden toegevoegd aan de verzendlijst.\n							\n          \n            \n            \n            \n            \n            \n            \n            \n            \n            \n            \n            \n            \n            \n        \n                        Δ
URL:https://www.degroenebelevenis.nl/groene-agenda/familie-excursie-vleermuizen-zoeken-rond-buitenplaats-de-heiligenberg/
LOCATION:Buitenplaats De Heiligenberg\, Heiligenbergerweg 5\, Leusden
CATEGORIES:Excursies
ATTACH;FMTTYPE=image/jpeg:https://www.degroenebelevenis.nl/wp-content/uploads/2026/03/vleermuizen.3.jpg
END:VEVENT
BEGIN:VEVENT
DTSTART;TZID=Europe/Amsterdam:20260604T210000
DTEND;TZID=Europe/Amsterdam:20260604T230000
DTSTAMP:20260422T104527
CREATED:20260421T114553Z
LAST-MODIFIED:20260421T133701Z
UID:10003250-1780606800-1780614000@www.degroenebelevenis.nl
SUMMARY:Vleermuis safari
DESCRIPTION:Ga op donderdag 4 juni ’s avonds in de schemer mee op vleermuissafari en ontdek welke vleermuizen er allemaal rondfladderen in de bebouwde kom van Leusden! De Groene Belevenis organiseert twee vleermuisexcursies\, samen met de Vleermuizen Werkgroep. \nNachtdieren\nVleermuizen zijn nachtdieren en niet altijd makkelijk zichtbaar. Maar ze zijn er wel!  Ze leven het liefst in buurten met veel groen\, water en een donkere nacht. Hun aanwezigheid is dus een goede graadmeter voor hoe natuurrijk een buurt is. \nOp safari door de wijk\nMet een vleermuisdetector (een apparaat dat ultrageluid omzet in hoorbaar geluid) ga je met de fiets door de wijk en speur je de vleermuizen op. Twee gidsen van de Vleermuizen Werkgroep vertellen je onderweg meer over deze fascinerende dieren. Ook laten ze je zien wat je zelf in en om je eigen huis kunt doen om het de vleermuis naar de zin te maken. Want hun leefgebied staat steeds meer onder druk\, onder andere door isolatie van woningen. Vleermuisvriendelijk isoleren is een van de oplossingen\, waar de gidsen je meer over kunnen vertellen. We gaan deze avond op zoek naar vleermuizen in de buurten Akkerhoeve\, Noordwijk\, Bosveld\, Munnikhove en Langenbeek. \nTijd en plaats: de excursie start op donderdag 4 juni rond 21:00 uur bij het Huis van Leusden. Na aanmelding ontvang je bericht over de exacte vertrektijd en locatie.\nVervoer: met de fiets bezoeken we verschillende plekken\nAantal deelnemers: maximaal 20\nKosten: gratis\nAanmelden: verplicht via onderstaand aanmeldformulier \n\n                \n                        \n                            Aanmelden vleermuis safari 4 juni 2026\n                             \n                        \n                        Voornaam(Vereist)AchternaamE-mailadres(Vereist)\n                            \n                        Postcode(Vereist)Telefoonnummer(Vereist) ivm mogelijke wijzigingen programmaIk kom met # personen(Vereist)Er is op deze dag nog ruimte voor 20 deelnemers.Opmerkingen:Instemming(Vereist) Ja\, mijn gegevens mogen worden gebruikt en gedeeld met de organisatoren van de vleermuis safariNieuwsbrief toestemming\n								\n								Ja\, ik abonneer mij ook graag op de nieuwsbrieven van De Groene Belevenis. Ik ga ermee akkoord dat mijn naam en mailadres worden toegevoegd aan de verzendlijst.\n							\n          \n            \n            \n            \n            \n            \n            \n            \n            \n            \n            \n            \n            \n            \n        \n                        Δ
URL:https://www.degroenebelevenis.nl/groene-agenda/vleermuis-safari-3/
LOCATION:Huis van Leusden\, 't Erf 1\, Leusden\, Utrecht\, 3831 NA\, Nederland
CATEGORIES:Excursies,Groen Leusden
ATTACH;FMTTYPE=image/jpeg:https://www.degroenebelevenis.nl/wp-content/uploads/2025/04/2024_vleermuissafari-HF3-scaled.jpg
END:VEVENT
BEGIN:VEVENT
DTSTART;TZID=Europe/Amsterdam:20260606T140000
DTEND;TZID=Europe/Amsterdam:20260606T160000
DTSTAMP:20260422T104527
CREATED:20260318T223153Z
LAST-MODIFIED:20260318T223153Z
UID:10003221-1780754400-1780761600@www.degroenebelevenis.nl
SUMMARY:Familie-excursie 'Waterdiertjes zoeken in de Schoolsteegbosjes'
DESCRIPTION:De Schoolsteegbosjes vormen een bijzonder en waterrijk natuurgebied tussen de Hamersveldseweg\, de Schoolsteeg en de Liniedijk langs het Valleikanaal. \nTijdens de familie-excursie nemen we het waterleven in het gebied letterlijk onder de loep. Na een korte introductie over de Schoolsteegbosjes en haar bewoners kunnen kinderen onder begeleiding onderzoek doen in een van de poelen in het gebied. Welke bijzondere waterdieren komen we hier tegen? \nMaak gebruik van de mogelijkheid om waterdiertjes te zoeken in een natuurgebied dat normaal gesloten is voor publiek en meld je aan voor deze bijzondere familie-excursie! \nDeze excursie is geschikt voor kinderen in de basisschoolleeftijd. Aanmelden is verplicht. Er geldt een maximum aantal deelnemers. \n\n                \n                        \n                            Aanmelden familie-excursie 'Waterdiertjes vangen' op 6 juni 2026\n                             \n                        \n                        VoornaamAchternaamE-mailadres(Vereist)\n                            \n                        Telefoonnummer(Vereist) ivm mogelijke wijzigingen programmaIk kom met # personen(Vereist)Er is op deze dag nog ruimte voor 15 deelnemers.waarvan # kinderen(Vereist)Nieuwsbrief toestemming\n								\n								Ja\, ik abonneer mij ook graag op de nieuwsbrieven van De Groene Belevenis. Ik ga ermee akkoord dat mijn naam en mailadres worden toegevoegd aan de verzendlijst.\n							\n          \n            \n            \n            \n            \n            \n            \n            \n            \n            \n            \n            \n            \n            \n        \n                        Δ
URL:https://www.degroenebelevenis.nl/groene-agenda/familie-excursie-waterdiertjes-zoeken-in-de-schoolsteegbosjes/
LOCATION:Schoolsteegbosjes
CATEGORIES:Excursies
ATTACH;FMTTYPE=image/jpeg:https://www.degroenebelevenis.nl/wp-content/uploads/2026/03/waterdiertjes-vangen_GA.jpg
END:VEVENT
BEGIN:VEVENT
DTSTART;TZID=Europe/Amsterdam:20260610T133000
DTEND;TZID=Europe/Amsterdam:20260610T153000
DTSTAMP:20260422T104527
CREATED:20260421T110809Z
LAST-MODIFIED:20260421T111030Z
UID:10003248-1781098200-1781105400@www.degroenebelevenis.nl
SUMMARY:Wandeling voor mensen met een visuele beperking op Birkhoven
DESCRIPTION:Ben je klaar om het bos op een unieke manier te beleven? Deze bijzondere natuurwandeling in Bos Birkhoven is speciaal ontwikkeld voor mensen met een visuele beperking en biedt een ervaring die je zintuigen prikkelt. Onze gidsen nemen je door een bos vol heuvels\, geuren\, geluiden en variëteit aan planten. De route van 2\,2 kilometer nodigt uit om de natuur te voelen\, te ruiken en om naar te luisteren. Het is een kans om samen de omgeving te ontdekken en ervaringen uit te wisselen. Deze bijzondere natuurwandeling wil je niet missen! \nEr is plek voor tien mensen met een visuele beperking. Per persoon mag er gratis één begeleider mee.\nDe wandeling is niet geschikt voor rolstoel/rollator.\nBlindengeleidehonden zijn toegestaan tijdens de wandeling\, mits aangelijnd. \nVooraf reserveren is verplicht: https://www.utrechtslandschap.nl/activiteiten/excursie/wandeling-voor-mensen-met-een-visuele-beperking-op-birkhoven
URL:https://www.degroenebelevenis.nl/groene-agenda/wandeling-voor-mensen-met-een-visuele-beperking-op-birkhoven/
LOCATION:Bos Birkhoven\, Amersfoort\, Barchman Wuijtierslaan 232\,(afslag Out2Enjoy / Bosbad)\, 3819 AC Amersfoort\, Amersfoort\, 3919 AC
CATEGORIES:Excursies
ATTACH;FMTTYPE=image/png:https://www.degroenebelevenis.nl/wp-content/uploads/2026/04/6_flora_boslaan_PdB.png
ORGANIZER;CN="Koetshuis Stoutenburg - Informatiecentrum":MAILTO:mailto:koetshuisstoutenburg@gmail.com
END:VEVENT
BEGIN:VEVENT
DTSTART;TZID=Europe/Amsterdam:20260620T100000
DTEND;TZID=Europe/Amsterdam:20260620T120000
DTSTAMP:20260422T104527
CREATED:20260318T224341Z
LAST-MODIFIED:20260318T224341Z
UID:10003222-1781949600-1781956800@www.degroenebelevenis.nl
SUMMARY:Excursie 'Ontdek de Schoolsteegbosjes'
DESCRIPTION:De Schoolsteegbosjes vormen een bijzonder natuurgebied tussen de Hamersveldseweg\, de Schoolsteeg en de Liniedijk langs het Valleikanaal. Dit gebied van ca. 75 ha maakt deel uit van Landgoed De Boom en is normaalgesproken niet toegankelijk voor publiek. \nTijdens de excursie zie je hoe stichting De Boom zich inzet voor de ontwikkeling van de ecologische verbindingszone en natuurontwikkeling in dit gebied. \nDe Schoolsteegbosjes zijn wat flora en fauna betreft waardevol. Door de variatie in hoogte van struiken en bomen komen er veel verschillende dier- en plantensoorten voor. Het aanwezige hakhoutbos is ook een goede schuilplaats voor reeën en fazanten. \nLaat je verrassen door dit natuurgebied! \nDeze excursie is gratis en geschikt voor volwassenen. Aanmelden is verplicht. Er geldt een maximum aantal deelnemers. \n\n                \n                        \n                            Aanmelden excursie 'Ontdek de Schoolsteegbosjes' op 20 juni 2026\n                             \n                        \n                        VoornaamAchternaamE-mailadres(Vereist)\n                            \n                        Telefoonnummer(Vereist) ivm mogelijke wijzigingen programmaIk kom met # personen(Vereist)Er is op deze dag nog ruimte voor 43 deelnemers.Nieuwsbrief toestemming\n								\n								Ja\, ik abonneer mij ook graag op de nieuwsbrieven van De Groene Belevenis. Ik ga ermee akkoord dat mijn naam en mailadres worden toegevoegd aan de verzendlijst.\n							\n          \n            \n            \n            \n            \n            \n            \n            \n            \n            \n            \n            \n            \n            \n        \n                        Δ
URL:https://www.degroenebelevenis.nl/groene-agenda/excursie-ontdek-de-schoolsteegbosjes-3/
LOCATION:Schoolsteegbosjes
CATEGORIES:Excursies
ATTACH;FMTTYPE=image/jpeg:https://www.degroenebelevenis.nl/wp-content/uploads/2024/03/2023_Schoolsteegbosjes.2.jpg
END:VEVENT
BEGIN:VEVENT
DTSTART;TZID=Europe/Amsterdam:20260905T100000
DTEND;TZID=Europe/Amsterdam:20260905T120000
DTSTAMP:20260422T104527
CREATED:20260319T120801Z
LAST-MODIFIED:20260319T120801Z
UID:10003223-1788602400-1788609600@www.degroenebelevenis.nl
SUMMARY:Excursie 'Op stap in het Moorsterveld'
DESCRIPTION:Ingesloten tussen de Moorsterbeek\, de Moorsterweg en Hoeve Groot Zandbrink ligt het Moorsterveld. Een afwisselend\, langgerekt natuurgebied van ca. 12 ha groot dat bestaat uit vochtig hooiland\, moerasbos\, waterplassen en de Moorsterbeek. \nHet Moorsterveld is vanwege de lage ligging altijd in gebruik geweest als hooi- en weiland. In 2007 is Stichting De Boom nieuwe natuur op deze percelen gaan ontwikkelen. Door het afplaggen van de landbouwgronden op verschillende diepten is een gevarieerd\, vochtig landschap ontstaan. \nHet Moorsterveld is omwille van de in ontwikkeling zijnde kwetsbare blauwgraslanden normaal gesproken niet toegankelijk voor het publiek en fungeert daardoor ook als rustgebied voor allerlei dieren zoals vogels\, reeën\, dassen\, insecten en reptielen. De biodiversiteit is erg hoog\, er zijn enkele jaren geleden al meer dan 1.000 soorten flora en fauna in het gebied geteld! \nWandel mee en maak gebruik van de eenmalige gelegenheid om dit natuurgebied te ontdekken. De wandeling gaat over het centrale zandpad en de vele smalle loopplanken die in dit waterrijke gebied liggen. \nDe excursie is geschikt voor volwassenen en aanmelden is verplicht. Er geldt een maximum aantal deelnemers. \n\n                \n                        \n                            Aanmelden excursie 'Op stap in het Moorsterveld' op 5 september 2026\n                             \n                        \n                        VoornaamAchternaamE-mailadres(Vereist)\n                            \n                        Telefoonnummer(Vereist) ivm mogelijke wijzigingen programmaIk kom met # personen(Vereist)Er is op deze dag nog ruimte voor 38 deelnemers.Nieuwsbrief toestemming\n								\n								Ja\, ik abonneer mij ook graag op de nieuwsbrieven van De Groene Belevenis. Ik ga ermee akkoord dat mijn naam en mailadres worden toegevoegd aan de verzendlijst.\n							\n          \n            \n            \n            \n            \n            \n            \n            \n            \n            \n            \n            \n            \n            \n        \n                        Δ
URL:https://www.degroenebelevenis.nl/groene-agenda/excursie-op-stap-in-het-moorsterveld-3/
LOCATION:Moorsterveld
CATEGORIES:Excursies
ATTACH;FMTTYPE=image/jpeg:https://www.degroenebelevenis.nl/wp-content/uploads/2024/03/Moorsterveld_TK_klein.jpg
END:VEVENT
END:VCALENDAR