BEGIN:VCALENDAR
VERSION:2.0
PRODID:-//De Groene Belevenis - ECPv6.15.18//NONSGML v1.0//EN
CALSCALE:GREGORIAN
METHOD:PUBLISH
X-ORIGINAL-URL:https://www.degroenebelevenis.nl
X-WR-CALDESC:Evenementen voor De Groene Belevenis
REFRESH-INTERVAL;VALUE=DURATION:PT1H
X-Robots-Tag:noindex
X-PUBLISHED-TTL:PT1H
BEGIN:VTIMEZONE
TZID:Europe/Amsterdam
BEGIN:DAYLIGHT
TZOFFSETFROM:+0100
TZOFFSETTO:+0200
TZNAME:CEST
DTSTART:20210328T010000
END:DAYLIGHT
BEGIN:STANDARD
TZOFFSETFROM:+0200
TZOFFSETTO:+0100
TZNAME:CET
DTSTART:20211031T010000
END:STANDARD
BEGIN:DAYLIGHT
TZOFFSETFROM:+0100
TZOFFSETTO:+0200
TZNAME:CEST
DTSTART:20220327T010000
END:DAYLIGHT
BEGIN:STANDARD
TZOFFSETFROM:+0200
TZOFFSETTO:+0100
TZNAME:CET
DTSTART:20221030T010000
END:STANDARD
BEGIN:DAYLIGHT
TZOFFSETFROM:+0100
TZOFFSETTO:+0200
TZNAME:CEST
DTSTART:20230326T010000
END:DAYLIGHT
BEGIN:STANDARD
TZOFFSETFROM:+0200
TZOFFSETTO:+0100
TZNAME:CET
DTSTART:20231029T010000
END:STANDARD
END:VTIMEZONE
BEGIN:VEVENT
DTSTART;TZID=Europe/Amsterdam:20221005T100000
DTEND;TZID=Europe/Amsterdam:20221005T143000
DTSTAMP:20260426T023712
CREATED:20220929T075727Z
LAST-MODIFIED:20230106T103046Z
UID:10001828-1664964000-1664980200@www.degroenebelevenis.nl
SUMMARY:Huurders op Groen
DESCRIPTION:Hoe kun je bewoners bereiken met een groene boodschap en hoe stimuleer je hen om groener te leven? Die vragen staan centraal tijdens de bijeenkomst ‘Huurders op Groen’ die door de Groene Huisvesters en vereniging GDO op 5 oktober wordt georganiseerd. Deze bijeenkomst is gericht op woningcorporaties en huurdersverenigingen. \nHet ochtenddeel (10.00 – 11.30) is een webinar waarin onder andere een voorbeeldproject wordt gepresenteerd. ‘s Middags (13.00 – 14.30) opent Het Groene Huis in Amersfoort haar deuren voor een middagexcursie. Doel van die excursie is onderlinge kennismaking en het verkennen van mogelijkheden om samen te werken. Er is onder andere een rondleiding door Het Groene Huis en naar de klimaatbestendige voorbeeldtuinen en een presentatie van het project Huurders op groen van vereniging GDO\, Groene Huisvesters\, Woonbond en SME Advies. \nInfo en aanmelden\nBekijk voor meer informatie het programma van het webinar en de flyer van de middagexcursie.\nAanmelden is verplicht\, via de Aedes website 
URL:https://www.degroenebelevenis.nl/groene-agenda/huurders-op-groen/
LOCATION:Het Groene Huis\, Schothorsterlaan 21\, Amersfoort\, Schothorsterlaan 21\, Amersfoort\, 3822 NA
CATEGORIES:Algemeen
ATTACH;FMTTYPE=image/jpeg:https://www.degroenebelevenis.nl/wp-content/uploads/2022/09/Huurders-op-groen.jpg
END:VEVENT
END:VCALENDAR