BEGIN:VCALENDAR
VERSION:2.0
PRODID:-//De Groene Belevenis - ECPv6.15.18//NONSGML v1.0//EN
CALSCALE:GREGORIAN
METHOD:PUBLISH
X-ORIGINAL-URL:https://www.degroenebelevenis.nl
X-WR-CALDESC:Evenementen voor De Groene Belevenis
REFRESH-INTERVAL;VALUE=DURATION:PT1H
X-Robots-Tag:noindex
X-PUBLISHED-TTL:PT1H
BEGIN:VTIMEZONE
TZID:Europe/Amsterdam
BEGIN:DAYLIGHT
TZOFFSETFROM:+0100
TZOFFSETTO:+0200
TZNAME:CEST
DTSTART:20200329T010000
END:DAYLIGHT
BEGIN:STANDARD
TZOFFSETFROM:+0200
TZOFFSETTO:+0100
TZNAME:CET
DTSTART:20201025T010000
END:STANDARD
BEGIN:DAYLIGHT
TZOFFSETFROM:+0100
TZOFFSETTO:+0200
TZNAME:CEST
DTSTART:20210328T010000
END:DAYLIGHT
BEGIN:STANDARD
TZOFFSETFROM:+0200
TZOFFSETTO:+0100
TZNAME:CET
DTSTART:20211031T010000
END:STANDARD
BEGIN:DAYLIGHT
TZOFFSETFROM:+0100
TZOFFSETTO:+0200
TZNAME:CEST
DTSTART:20220327T010000
END:DAYLIGHT
BEGIN:STANDARD
TZOFFSETFROM:+0200
TZOFFSETTO:+0100
TZNAME:CET
DTSTART:20221030T010000
END:STANDARD
END:VTIMEZONE
BEGIN:VEVENT
DTSTART;TZID=Europe/Amsterdam:20211016T120000
DTEND;TZID=Europe/Amsterdam:20211016T160000
DTSTAMP:20260421T115848
CREATED:20210915T074917Z
LAST-MODIFIED:20230106T103044Z
UID:10001737-1634385600-1634400000@www.degroenebelevenis.nl
SUMMARY:Herfstfeest in het Voedselbos én de vlinder- en bijentuin
DESCRIPTION:Het voedselbos\, de vlindertuin en de imkers presenteren op deze dag hun (toekomstige) producten\, zoals o.a. fruit\, jam\, honing\, kastanjes\, bloemen. Er is van alles te proeven: pompoensoep\, vruchtentaart\, honing en nog veel meer. In het voedselbos wordt een totaal nieuw ecosysteem opgebouwd en over de jaren neemt de soortenrijkdom toe en kun je het hele jaar door oogsten. \nLocatie:  Vlinderpad 1\, Leusden (hoek Heiligenbergerweg/Groene Zoom).  Meer info: https://www.vlindertuinleusden.nl en https://www.cmlleusden.nl  Tevens is het deze dag Wereldvoedseldag en daar is ook aandacht voor.
URL:https://www.degroenebelevenis.nl/groene-agenda/herfstfeest-in-het-voedselbos-en-vlinder-en-bijentuin/
LOCATION:Leusden\, Leusden
CATEGORIES:Algemeen
END:VEVENT
END:VCALENDAR