BEGIN:VCALENDAR
VERSION:2.0
PRODID:-//De Groene Belevenis - ECPv6.15.18//NONSGML v1.0//EN
CALSCALE:GREGORIAN
METHOD:PUBLISH
X-WR-CALNAME:De Groene Belevenis
X-ORIGINAL-URL:https://www.degroenebelevenis.nl
X-WR-CALDESC:Evenementen voor De Groene Belevenis
REFRESH-INTERVAL;VALUE=DURATION:PT1H
X-Robots-Tag:noindex
X-PUBLISHED-TTL:PT1H
BEGIN:VTIMEZONE
TZID:Europe/Amsterdam
BEGIN:DAYLIGHT
TZOFFSETFROM:+0100
TZOFFSETTO:+0200
TZNAME:CEST
DTSTART:20200329T010000
END:DAYLIGHT
BEGIN:STANDARD
TZOFFSETFROM:+0200
TZOFFSETTO:+0100
TZNAME:CET
DTSTART:20201025T010000
END:STANDARD
BEGIN:DAYLIGHT
TZOFFSETFROM:+0100
TZOFFSETTO:+0200
TZNAME:CEST
DTSTART:20210328T010000
END:DAYLIGHT
BEGIN:STANDARD
TZOFFSETFROM:+0200
TZOFFSETTO:+0100
TZNAME:CET
DTSTART:20211031T010000
END:STANDARD
BEGIN:DAYLIGHT
TZOFFSETFROM:+0100
TZOFFSETTO:+0200
TZNAME:CEST
DTSTART:20220327T010000
END:DAYLIGHT
BEGIN:STANDARD
TZOFFSETFROM:+0200
TZOFFSETTO:+0100
TZNAME:CET
DTSTART:20221030T010000
END:STANDARD
END:VTIMEZONE
BEGIN:VEVENT
DTSTART;TZID=Europe/Amsterdam:20211002T100000
DTEND;TZID=Europe/Amsterdam:20211002T170000
DTSTAMP:20260422T162713
CREATED:20210920T115952Z
LAST-MODIFIED:20230106T103044Z
UID:10001739-1633168800-1633194000@www.degroenebelevenis.nl
SUMMARY:Nationale Kringloopdag
DESCRIPTION:Zaterdag 2 oktober is het weer Nationale Kringloopdag! Deze dag wordt georganiseerd door de Branchevereniging Kringloopbedrijven Nederland (BKN) en alle 100%Kringloopwinkels die hierbij zijn aangesloten. Dit jaar staat de Nationale Kringloopdag in het teken van Kringloopgeluk\, die ene bijzondere vondst die je bij een kringloopwinkel kan vinden en op zaterdag 2 oktober ook weer bij ons! (Kringloopcentrum Amersfoort). Er staan weer leuke dingen op het programma! Bijvoorbeeld de jaarlijkse Antiek & Curiosa markt bij Kringloopcentrum Leusden. Hiervoor is weer een mooie selectie gemaakt\, aangevuld met design en vintage meubels\, objecten\, lampen\, kleding\, kunst en platen. Ook in Amersfoort en Oud Nieuws zullen er verschillende surprise-acties zijn\, maar die blijven voorlopig een verrassing! Houd onze website en social media in de gaten voor meer info. \nwww.kringloopamersfoortleusden.nl \nInstagram\nAntiek & Curiosa markt bij Kringloop Leusden \nNationale Kringloopdag bij Kringloop Amersfoort & Oud Nieuws
URL:https://www.degroenebelevenis.nl/groene-agenda/nationale-kringloopdag/
LOCATION:Amersfoort en Leusden\, Utrecht\, Nederland
CATEGORIES:Algemeen
END:VEVENT
END:VCALENDAR