BEGIN:VCALENDAR
VERSION:2.0
PRODID:-//De Groene Belevenis - ECPv6.15.18//NONSGML v1.0//EN
CALSCALE:GREGORIAN
METHOD:PUBLISH
X-WR-CALNAME:De Groene Belevenis
X-ORIGINAL-URL:https://www.degroenebelevenis.nl
X-WR-CALDESC:Evenementen voor De Groene Belevenis
REFRESH-INTERVAL;VALUE=DURATION:PT1H
X-Robots-Tag:noindex
X-PUBLISHED-TTL:PT1H
BEGIN:VTIMEZONE
TZID:Europe/Amsterdam
BEGIN:DAYLIGHT
TZOFFSETFROM:+0100
TZOFFSETTO:+0200
TZNAME:CEST
DTSTART:20230326T010000
END:DAYLIGHT
BEGIN:STANDARD
TZOFFSETFROM:+0200
TZOFFSETTO:+0100
TZNAME:CET
DTSTART:20231029T010000
END:STANDARD
BEGIN:DAYLIGHT
TZOFFSETFROM:+0100
TZOFFSETTO:+0200
TZNAME:CEST
DTSTART:20240331T010000
END:DAYLIGHT
BEGIN:STANDARD
TZOFFSETFROM:+0200
TZOFFSETTO:+0100
TZNAME:CET
DTSTART:20241027T010000
END:STANDARD
BEGIN:DAYLIGHT
TZOFFSETFROM:+0100
TZOFFSETTO:+0200
TZNAME:CEST
DTSTART:20250330T010000
END:DAYLIGHT
BEGIN:STANDARD
TZOFFSETFROM:+0200
TZOFFSETTO:+0100
TZNAME:CET
DTSTART:20251026T010000
END:STANDARD
BEGIN:DAYLIGHT
TZOFFSETFROM:+0100
TZOFFSETTO:+0200
TZNAME:CEST
DTSTART:20260329T010000
END:DAYLIGHT
BEGIN:STANDARD
TZOFFSETFROM:+0200
TZOFFSETTO:+0100
TZNAME:CET
DTSTART:20261025T010000
END:STANDARD
END:VTIMEZONE
BEGIN:VEVENT
DTSTART;VALUE=DATE:20251110
DTEND;VALUE=DATE:20251117
DTSTAMP:20260422T235557
CREATED:20250920T120310Z
LAST-MODIFIED:20251006T161112Z
UID:10002735-1762732800-1763337599@www.degroenebelevenis.nl
SUMMARY:Duurzaam Kerstseizoen Kringloop Leusden
DESCRIPTION:Heb je heimwee naar een witte kerst met de familie of kies je voor eigen nieuwe tradities\, bij Kringloop Leusden vind je alles voor een gezellige eindejaarsperiode. \nWat kun je doen  met hergebruikte kerstdecoratie en bijpassend servies of glaswerk? Laat je inspireren door de gedekte tafels en de onverwachte combinaties\, aangevuld met zelfgemaakte creaties. Maak een milieuvriendelijke keuze en kies voor hergebruik! \nDe kringloopwinkel wordt stap voor stap omgebouwd tot een waar kerstparadijs. Iedere middag heeft een kerstshop met een eigen thema. Nieuwsgierig welke thema\, kijk hiervoor op hun website. \nHet KerstSpektakel is op zondag 16 november met warme choco en snert. De kerstman deelt duurzame kadootjes uit en er is gezellige muziek. \nDe Kerstafdeling is in deze week iedere middag geopend van 13:00-17:00 uur Koop of breng je bij het kringloopcentrum\, dan help je mensen aan een werkplek en bevorder je duurzaamheid.
URL:https://www.degroenebelevenis.nl/groene-agenda/duurzaam-kerstseizoen/
LOCATION:Kringloop Leusden\, Beddrijfsweg 1\, Leusden
CATEGORIES:Duurzaam Doen
ATTACH;FMTTYPE=image/jpeg:https://www.degroenebelevenis.nl/wp-content/uploads/2025/09/2025-Duurzame-kerst-november-scaled.jpg
END:VEVENT
BEGIN:VEVENT
DTSTART;TZID=Europe/Amsterdam:20251004T100000
DTEND;TZID=Europe/Amsterdam:20251004T170000
DTSTAMP:20260422T235557
CREATED:20250920T115221Z
LAST-MODIFIED:20250923T105810Z
UID:10002734-1759572000-1759597200@www.degroenebelevenis.nl
SUMMARY:Nationale Kringloopdag
DESCRIPTION:De Nationale Kringloopdag is er om het belang van hergebruik en duurzaamheid te benadrukken. Deze feestelijke dag wordt om 10:00 uur geopend door wethouder Marleen Treep. Tevens wordt de “dubbel duurzaam collectie” gepresenteerd. Deze producten gaan niet alleen over hergebruik\, maar besparen ook nog eens energie en water\, of dragen bij het beperken van afval en zorgen voor recycling. De “dubbel duurzaam” blijft heel oktober staan\, dus kom kijken voor handige tips. \nKoop of breng je bij het Kringloopcentrum\, dan help je mensen aan een werkplek en bevorder je duurzaamheid.
URL:https://www.degroenebelevenis.nl/groene-agenda/nationale-kringloopdag-2/
LOCATION:Kringloop Leusden\, Beddrijfsweg 1\, Leusden
CATEGORIES:Duurzaam Doen
ATTACH;FMTTYPE=image/jpeg:https://www.degroenebelevenis.nl/wp-content/uploads/2025/09/dubbel-duurzaam-2025-Kringloop.jpg
END:VEVENT
BEGIN:VEVENT
DTSTART;VALUE=DATE:20251004
DTEND;VALUE=DATE:20251101
DTSTAMP:20260422T235557
CREATED:20250923T104326Z
LAST-MODIFIED:20250923T105946Z
UID:10002749-1759536000-1761955199@www.degroenebelevenis.nl
SUMMARY:Oktober: "dubbel duurzaam collectie" in de Kringloopwinkel
DESCRIPTION:Op 4 oktober wordt de “dubbel duurzaam collectie” gepresenteerd\, deze producten gaan niet alleen over hergebruik\, maar besparen ook nog eens energie en water\, of dragen bij het beperken van afval en zorgen voor recycling.\nDe “dubbel duurzaam collectie” blijft heel oktober staan\, dus kom kijken voor leuke koopjes en handige tips. \n 
URL:https://www.degroenebelevenis.nl/groene-agenda/oktober-dubbel-duurzaam-collectie-kringloopwinkel/
LOCATION:Kringloop Leusden\, Beddrijfsweg 1\, Leusden
CATEGORIES:Duurzaam Doen
ATTACH;FMTTYPE=image/jpeg:https://www.degroenebelevenis.nl/wp-content/uploads/2025/09/dubbel-duurzaam-2025-Kringloop.jpg
END:VEVENT
BEGIN:VEVENT
DTSTART;TZID=Europe/Amsterdam:20241117T120000
DTEND;TZID=Europe/Amsterdam:20241117T170000
DTSTAMP:20260422T235557
CREATED:20241113T114101Z
LAST-MODIFIED:20241113T114151Z
UID:10002139-1731844800-1731862800@www.degroenebelevenis.nl
SUMMARY:Kerstmarkt Kringloop Leusden
DESCRIPTION:De feestdagen komen eraan en bij Kringloop Leusden is alles in gereedheid gebracht om de magie van kerst met bezoekers te delen.  De kringloopwinkel nodigt iedereen uit om op een duurzame manier in de feeststemming te komen en zich te laten inspireren door een uitgebreide collectie tweedehands kerstitems. Door te kiezen voor hergebruik maken bezoekers niet alleen een bewuste keuze\, maar geven zij tweedehands schatten een nieuw leven. \nKerstspektakel bij Kringloop Leusden \nOp zondag 17 november vindt het jaarlijkse Kerstspektakel plaats bij Kringloop Leusden.\nDe deuren zijn dan geopend van 12:00 tot 16:00 uur voor een middag vol feestelijkheid. Of het nu gaat om het herbeleven van een nostalgische witte kerst met familie of het creëren van nieuwe tradities\, de kerstcollectie van Kringloop Leusden biedt voor ieder wat wils. Bezoekers kunnen onder andere feestelijk glaswerk\, stijlvolle feestkleding en decoratieve kerstbomen ontdekken\, en dat allemaal op een milieuvriendelijke manier.
URL:https://www.degroenebelevenis.nl/groene-agenda/kerstmarkten-van-kringloop-amersfoort-en-kringloop-leusden/
LOCATION:Kringloop Leusden\, Beddrijfsweg 1\, Leusden
ATTACH;FMTTYPE=image/jpeg:https://www.degroenebelevenis.nl/wp-content/uploads/2024/11/Kerstmarkten-2024-Laura-Verschuur.jpg
END:VEVENT
BEGIN:VEVENT
DTSTART;TZID=Europe/Amsterdam:20240615T100000
DTEND;TZID=Europe/Amsterdam:20240615T170000
DTSTAMP:20260422T235557
CREATED:20240610T182823Z
LAST-MODIFIED:20240610T182823Z
UID:10002102-1718445600-1718470800@www.degroenebelevenis.nl
SUMMARY:Duurzame braderie bij Kringloopcentrum Leusden
DESCRIPTION:Op zaterdag 15 juni organiseert Kringloopcentrum Leusden van 10:00 – 17:00 uur een bruisende braderie buiten bij de kringloopwinkel aan de Bedrijfsweg in Leusden. Het Kringloopcentrum staat voor duurzaamheid\, hergebruik en inclusiviteit. Deze dag bieden wij daarom een podium aan ondernemers\, makers en organisaties die deze idealen delen. \nEr is een markt waar bezoekers terecht kunnen voor ‘upcycled’ objecten en kleding\, kunstige serviezen\, tassen van bijzondere stoffen\, of haakwerk. Maar er zijn ook prachtige bloemen uit de pluktuin en de bijna traditionele handgemaakte kaarsen van dagbesteding LichtHeertjes. De definitieve lijst van standhouders is te vinden op de website van Kringloopcentrum Leusden.\nVoor de klanten zijn er tijdens de braderie niet alleen frisse\, biologische limonades\, maar ook verse huisgemaakte hapjes. \n\nKoopjesmarkt met volop acties en aanbiedingen\nOok wij moeten af en toe opruimen. Wij houden niet van weggooien\, maar wel van aanbiedingen\, duurzaamheid en verantwoorde keuzes. Daarom organiseren wij tijdens de braderie een feestelijke Koopjesmarkt. Normaal gesproken kunnen klanten al voordelig winkelen\, maar tijdens de Koopjesmarkt zijn de prijzen nóg lager. Zo kunnen bezoekers bijvoorbeeld een boek kopen voor slechts één euro\, vier glazen voor één euro\, twee stuks speelgoed voor de prijs van één\, en krijgen ze 20% kassakorting bij een besteding van 20 euro. Een feestelijke actiedag vol voordeel! \n\n\nMeer informatie\nLees meer op de website van Kringloopcentrum Leusden.
URL:https://www.degroenebelevenis.nl/groene-agenda/duurzame-braderie-bij-kringloopcentrum-leusden/
LOCATION:Kringloop Leusden\, Beddrijfsweg 1\, Leusden
ATTACH;FMTTYPE=image/jpeg:https://www.degroenebelevenis.nl/wp-content/uploads/2024/06/Kringloop-Leusden.jpg
END:VEVENT
BEGIN:VEVENT
DTSTART;TZID=Europe/Amsterdam:20240302T100000
DTEND;TZID=Europe/Amsterdam:20240302T170000
DTSTAMP:20260422T235557
CREATED:20240228T091257Z
LAST-MODIFIED:20240228T091257Z
UID:10002044-1709373600-1709398800@www.degroenebelevenis.nl
SUMMARY:Paasmarkt in Kringloopcentrum Leusden
DESCRIPTION:Op zaterdag 2 maart organiseert Kringloopcentrum Leusden de paasmarkt en ‘Kleurexplosie’.\nVan 10:00 tot 17:00 uur verwelkomt het centrum bezoekers om te genieten van een bonte verzameling aan vrolijke kleuren. \nMet een scala aan zomerkleding\, buitenmeubelen\, huis- en tuinaccessoires\, en een speciale paasmarkt\, belooft de kleurexplosie een feestelijke en inspirerende dag te worden voor alle bezoekers. Van traditionele paaselementen tot moderne decoratieve stukken\, er is voor ieder wat wils om de komende lente en het paasseizoen te verwelkomen. \nDoor deel te nemen aan ‘Kleurexplosie’ maken bezoekers niet alleen een keuze voor vrolijkheid en stijl\, maar ook voor duurzaamheid. Het hergebruik van items staat centraal bij Kringloopcentrum Leusden\, waardoor bezoekers automatisch bijdragen aan een meer circulaire economie. Het motto luidt dan ook: “Maak tweedehands eerste keus!”
URL:https://www.degroenebelevenis.nl/groene-agenda/paasmarkt-in-kringloopcentrum-leusden/
LOCATION:Kringloop Leusden\, Beddrijfsweg 1\, Leusden
ATTACH;FMTTYPE=image/jpeg:https://www.degroenebelevenis.nl/wp-content/uploads/2024/02/Paasmarkt-Foto-door-Laura-Verschuur-web.jpg
END:VEVENT
END:VCALENDAR