BEGIN:VCALENDAR
VERSION:2.0
PRODID:-//De Groene Belevenis - ECPv6.15.18//NONSGML v1.0//EN
CALSCALE:GREGORIAN
METHOD:PUBLISH
X-ORIGINAL-URL:https://www.degroenebelevenis.nl
X-WR-CALDESC:Evenementen voor De Groene Belevenis
REFRESH-INTERVAL;VALUE=DURATION:PT1H
X-Robots-Tag:noindex
X-PUBLISHED-TTL:PT1H
BEGIN:VTIMEZONE
TZID:Europe/Amsterdam
BEGIN:DAYLIGHT
TZOFFSETFROM:+0100
TZOFFSETTO:+0200
TZNAME:CEST
DTSTART:20240331T010000
END:DAYLIGHT
BEGIN:STANDARD
TZOFFSETFROM:+0200
TZOFFSETTO:+0100
TZNAME:CET
DTSTART:20241027T010000
END:STANDARD
BEGIN:DAYLIGHT
TZOFFSETFROM:+0100
TZOFFSETTO:+0200
TZNAME:CEST
DTSTART:20250330T010000
END:DAYLIGHT
BEGIN:STANDARD
TZOFFSETFROM:+0200
TZOFFSETTO:+0100
TZNAME:CET
DTSTART:20251026T010000
END:STANDARD
BEGIN:DAYLIGHT
TZOFFSETFROM:+0100
TZOFFSETTO:+0200
TZNAME:CEST
DTSTART:20260329T010000
END:DAYLIGHT
BEGIN:STANDARD
TZOFFSETFROM:+0200
TZOFFSETTO:+0100
TZNAME:CET
DTSTART:20261025T010000
END:STANDARD
END:VTIMEZONE
BEGIN:VEVENT
DTSTART;VALUE=DATE:20251101
DTEND;VALUE=DATE:20251102
DTSTAMP:20260425T201701
CREATED:20250920T122127Z
LAST-MODIFIED:20250921T094005Z
UID:10002738-1761984000-1762016400@www.degroenebelevenis.nl
SUMMARY:Natuurwerkdag: doe mee!
DESCRIPTION:Samen iets doen voor natuur en klimaat op de Natuurwerkdagen. Op vrijdag 31 oktober en zaterdag 1 november zijn er in het hele land natuurklussen te doen die bijdragen aan natuurbehoud- en herstel\, zoals wilgen knotten\, bollen planten\, insectenhotels bouwen\, bomen planten en veel andere activiteiten. En die hulp in natuurgebieden is hard nodig. \nElk jaar doen er ruim 15.000 deelnemers mee aan deze landelijke dag in het groen\, met meer dan 500 natuurklussen in het hele land.  Een mooie kans om kennis te maken met groen vrijwilligerswerk en je samen met anderen in te zetten voor een stukje natuur bij jou in de buurt. \nZo kun je op zaterdag 1 november helpen in Het Weelde Bos\, een jong voedselbos in de Glind. Werkzaamheden o.a. een poel graven\, wilde bramen en bamboe uitsteken\, wilgen knotten en paden rollen en afzetten. \nOp deze website vind je nog meer klussen bij jou in de buurt én is het mogelijk om je aan te melden.\nDoe mee aan de Natuurwerkdag en zet je in voor natuur dichtbij huis!
URL:https://www.degroenebelevenis.nl/groene-agenda/natuurwerkdag-doe-mee-op-31-oktober-en-1-november/2025-11-01/
CATEGORIES:Duurzaam Doen,Groen Leusden
ATTACH;FMTTYPE=image/jpeg:https://www.degroenebelevenis.nl/wp-content/uploads/2025/09/Weelde-Bos-natuurwerkdag.jpg
ORGANIZER;CN="Landschap Erfgoed Utrecht":MAILTO:natuurwerkdag@landschaperfgoedutrecht.nl
END:VEVENT
BEGIN:VEVENT
DTSTART;VALUE=DATE:20251031
DTEND;VALUE=DATE:20251102
DTSTAMP:20260425T201701
CREATED:20250920T122127Z
LAST-MODIFIED:20250921T094005Z
UID:10002736-1761868800-1762041599@www.degroenebelevenis.nl
SUMMARY:Natuurwerkdag: doe mee!
DESCRIPTION:Samen iets doen voor natuur en klimaat op de Natuurwerkdagen. Op vrijdag 31 oktober en zaterdag 1 november zijn er in het hele land natuurklussen te doen die bijdragen aan natuurbehoud- en herstel\, zoals wilgen knotten\, bollen planten\, insectenhotels bouwen\, bomen planten en veel andere activiteiten. En die hulp in natuurgebieden is hard nodig. \nElk jaar doen er ruim 15.000 deelnemers mee aan deze landelijke dag in het groen\, met meer dan 500 natuurklussen in het hele land.  Een mooie kans om kennis te maken met groen vrijwilligerswerk en je samen met anderen in te zetten voor een stukje natuur bij jou in de buurt. \nZo kun je op zaterdag 1 november helpen in Het Weelde Bos\, een jong voedselbos in de Glind. Werkzaamheden o.a. een poel graven\, wilde bramen en bamboe uitsteken\, wilgen knotten en paden rollen en afzetten. \nOp deze website vind je nog meer klussen bij jou in de buurt én is het mogelijk om je aan te melden.\nDoe mee aan de Natuurwerkdag en zet je in voor natuur dichtbij huis!
URL:https://www.degroenebelevenis.nl/groene-agenda/natuurwerkdag-doe-mee-op-31-oktober-en-1-november/2025-10-31/
CATEGORIES:Duurzaam Doen,Groen Leusden
ATTACH;FMTTYPE=image/jpeg:https://www.degroenebelevenis.nl/wp-content/uploads/2025/09/Weelde-Bos-natuurwerkdag.jpg
ORGANIZER;CN="Landschap Erfgoed Utrecht":MAILTO:natuurwerkdag@landschaperfgoedutrecht.nl
END:VEVENT
END:VCALENDAR