BEGIN:VCALENDAR
VERSION:2.0
PRODID:-//De Groene Belevenis - ECPv6.15.18//NONSGML v1.0//EN
CALSCALE:GREGORIAN
METHOD:PUBLISH
X-ORIGINAL-URL:https://www.degroenebelevenis.nl
X-WR-CALDESC:Evenementen voor De Groene Belevenis
REFRESH-INTERVAL;VALUE=DURATION:PT1H
X-Robots-Tag:noindex
X-PUBLISHED-TTL:PT1H
BEGIN:VTIMEZONE
TZID:Europe/Amsterdam
BEGIN:DAYLIGHT
TZOFFSETFROM:+0100
TZOFFSETTO:+0200
TZNAME:CEST
DTSTART:20210328T010000
END:DAYLIGHT
BEGIN:STANDARD
TZOFFSETFROM:+0200
TZOFFSETTO:+0100
TZNAME:CET
DTSTART:20211031T010000
END:STANDARD
BEGIN:DAYLIGHT
TZOFFSETFROM:+0100
TZOFFSETTO:+0200
TZNAME:CEST
DTSTART:20220327T010000
END:DAYLIGHT
BEGIN:STANDARD
TZOFFSETFROM:+0200
TZOFFSETTO:+0100
TZNAME:CET
DTSTART:20221030T010000
END:STANDARD
BEGIN:DAYLIGHT
TZOFFSETFROM:+0100
TZOFFSETTO:+0200
TZNAME:CEST
DTSTART:20230326T010000
END:DAYLIGHT
BEGIN:STANDARD
TZOFFSETFROM:+0200
TZOFFSETTO:+0100
TZNAME:CET
DTSTART:20231029T010000
END:STANDARD
END:VTIMEZONE
BEGIN:VEVENT
DTSTART;TZID=Europe/Amsterdam:20220319T100000
DTEND;TZID=Europe/Amsterdam:20220531T160000
DTSTAMP:20260421T132858
CREATED:20220117T101133Z
LAST-MODIFIED:20230106T103045Z
UID:10001753-1647684000-1654012800@www.degroenebelevenis.nl
SUMMARY:Natuuropleiding \, down to earth
DESCRIPTION:Een complete natuuropleiding met aandacht voor oeroude (en recente) natuurwijsheid.  De opleiding is niet bedoeld om je op te leiden tot gids of iets dergelijks. Ons doel met deze opleiding is om jezelf te verrijken\, je bewust te maken en je meer te leren over de natuur. De lessen staan gepland op zaterdag van 10 tot 16.00 uur en zijn gemiddeld 2 x per maand.  In totaal zijn er 21 lessen.  Wij houden de schoolvakanties aan. Iedere volwassene met interesse kan deze opleiding volgen. De natuuropleiding kost € 1750\,-  incl. BTW\, bevlogen docenten en een certificaat aan het einde van de opleiding. De lunch verzorgen we met elkaar. Het is niet mogelijk om lessen los te volgen! Ben je al enthousiast! Schrijf je dan in: ja\, ik doe mee! Mocht je nog vragen hebben: info@natuuropleiding.nl
URL:https://www.degroenebelevenis.nl/groene-agenda/natuuropleiding-down-to-earth/
LOCATION:Diverse
CATEGORIES:Algemeen
END:VEVENT
END:VCALENDAR